BEGIN:VCALENDAR
VERSION:2.0
PRODID:-//SV Wildschütz Deggenau - ECPv4.8.0.1//NONSGML v1.0//EN
CALSCALE:GREGORIAN
METHOD:PUBLISH
X-WR-CALNAME:SV Wildschütz Deggenau
X-ORIGINAL-URL:https://xn--sv-wildschtz-mlb.de
X-WR-CALDESC:Veranstaltungen für SV Wildschütz Deggenau
BEGIN:VEVENT
DTSTART;TZID=Europe/Berlin:20171216T190000
DTEND;TZID=Europe/Berlin:20171216T220000
DTSTAMP:20260424T114723
CREATED:20171130T173049Z
LAST-MODIFIED:20171130T173049Z
UID:918-1513450800-1513461600@xn--sv-wildschtz-mlb.de
SUMMARY:Christbaumversteigerung Sportverein Deggenau
DESCRIPTION:
URL:https://xn--sv-wildschtz-mlb.de/event/christbaumversteigerung-sportverein-deggenau/
LOCATION:Schützenheim\, Sportplatzweg 2\, Deggendorf\, Bayern\, 94469\, Deutschland
END:VEVENT
END:VCALENDAR