BEGIN:VCALENDAR
VERSION:2.0
PRODID:-//SV Wildschütz Deggenau - ECPv4.8.0.1//NONSGML v1.0//EN
CALSCALE:GREGORIAN
METHOD:PUBLISH
X-WR-CALNAME:SV Wildschütz Deggenau
X-ORIGINAL-URL:https://xn--sv-wildschtz-mlb.de
X-WR-CALDESC:Veranstaltungen für SV Wildschütz Deggenau
BEGIN:VEVENT
DTSTART;TZID=Europe/Berlin:20171202T190000
DTEND;TZID=Europe/Berlin:20171202T220000
DTSTAMP:20260424T114658
CREATED:20171130T172919Z
LAST-MODIFIED:20171130T172919Z
UID:916-1512241200-1512252000@xn--sv-wildschtz-mlb.de
SUMMARY:Christbaumversteigerung SV Hubertus
DESCRIPTION:
URL:https://xn--sv-wildschtz-mlb.de/event/christbaumversteigerung-sv-hubertus/
CATEGORIES:Versammlung
END:VEVENT
END:VCALENDAR