BEGIN:VCALENDAR
VERSION:2.0
PRODID:-//SV Wildschütz Deggenau - ECPv4.8.0.1//NONSGML v1.0//EN
CALSCALE:GREGORIAN
METHOD:PUBLISH
X-WR-CALNAME:SV Wildschütz Deggenau
X-ORIGINAL-URL:https://xn--sv-wildschtz-mlb.de
X-WR-CALDESC:Veranstaltungen für SV Wildschütz Deggenau
BEGIN:VEVENT
DTSTART;TZID=Europe/Berlin:20171209T193000
DTEND;TZID=Europe/Berlin:20171209T223000
DTSTAMP:20260424T114713
CREATED:20170928T113816Z
LAST-MODIFIED:20170928T113816Z
UID:902-1512847800-1512858600@xn--sv-wildschtz-mlb.de
SUMMARY:Christbaumversteigerung Wildschütz Deggenau
DESCRIPTION:
URL:https://xn--sv-wildschtz-mlb.de/event/christbaumversteigerung-wildschuetz-deggenau/
LOCATION:Schützenheim\, Sportplatzweg 2\, Deggendorf\, Bayern\, 94469\, Deutschland
CATEGORIES:Versammlung
END:VEVENT
END:VCALENDAR