BEGIN:VCALENDAR
VERSION:2.0
PRODID:-//SV Wildschütz Deggenau - ECPv4.8.0.1//NONSGML v1.0//EN
CALSCALE:GREGORIAN
METHOD:PUBLISH
X-WR-CALNAME:SV Wildschütz Deggenau
X-ORIGINAL-URL:https://xn--sv-wildschtz-mlb.de
X-WR-CALDESC:Veranstaltungen für SV Wildschütz Deggenau
BEGIN:VEVENT
DTSTART;TZID=Europe/Berlin:20171103T190000
DTEND;TZID=Europe/Berlin:20171103T223000
DTSTAMP:20260424T131317
CREATED:20170928T113024Z
LAST-MODIFIED:20170928T113049Z
UID:883-1509735600-1509748200@xn--sv-wildschtz-mlb.de
SUMMARY:Dorfschießen
DESCRIPTION:
URL:https://xn--sv-wildschtz-mlb.de/event/dorfschiessen/
LOCATION:Schützenheim\, Sportplatzweg 2\, Deggendorf\, Bayern\, 94469\, Deutschland
END:VEVENT
END:VCALENDAR