BEGIN:VCALENDAR
VERSION:2.0
PRODID:-//SV Wildschütz Deggenau - ECPv4.8.0.1//NONSGML v1.0//EN
CALSCALE:GREGORIAN
METHOD:PUBLISH
X-WR-CALNAME:SV Wildschütz Deggenau
X-ORIGINAL-URL:https://xn--sv-wildschtz-mlb.de
X-WR-CALDESC:Veranstaltungen für SV Wildschütz Deggenau
BEGIN:VEVENT
DTSTART;TZID=Europe/Berlin:20170505T190000
DTEND;TZID=Europe/Berlin:20170505T230000
DTSTAMP:20260425T000943
CREATED:20170331T130243Z
LAST-MODIFIED:20170331T130243Z
UID:763-1494010800-1494025200@xn--sv-wildschtz-mlb.de
SUMMARY:End- und Königsschießen
DESCRIPTION:
URL:https://xn--sv-wildschtz-mlb.de/event/end-und-koenigsschiessen/
LOCATION:Schützenheim\, Sportplatzweg 2\, Deggendorf\, Bayern\, 94469\, Deutschland
END:VEVENT
END:VCALENDAR