BEGIN:VCALENDAR
VERSION:2.0
PRODID:-//SV Wildschütz Deggenau - ECPv4.8.0.1//NONSGML v1.0//EN
CALSCALE:GREGORIAN
METHOD:PUBLISH
X-WR-CALNAME:SV Wildschütz Deggenau
X-ORIGINAL-URL:https://xn--sv-wildschtz-mlb.de
X-WR-CALDESC:Veranstaltungen für SV Wildschütz Deggenau
BEGIN:VEVENT
DTSTART;TZID=Europe/Berlin:20190322T190000
DTEND;TZID=Europe/Berlin:20190322T230000
DTSTAMP:20260423T143155
CREATED:20181110T211833Z
LAST-MODIFIED:20181110T211833Z
UID:1348-1553281200-1553295600@xn--sv-wildschtz-mlb.de
SUMMARY:Jahreshauptversammlung mit Neuwahlen
DESCRIPTION:
URL:https://xn--sv-wildschtz-mlb.de/event/jahreshauptversammlung-mit-neuwahlen/
LOCATION:Schützenheim\, Sportplatzweg 2\, Deggendorf\, Bayern\, 94469\, Deutschland
CATEGORIES:Versammlung
END:VEVENT
END:VCALENDAR