BEGIN:VCALENDAR
VERSION:2.0
PRODID:-//SV Wildschütz Deggenau - ECPv4.8.0.1//NONSGML v1.0//EN
CALSCALE:GREGORIAN
METHOD:PUBLISH
X-WR-CALNAME:SV Wildschütz Deggenau
X-ORIGINAL-URL:https://xn--sv-wildschtz-mlb.de
X-WR-CALDESC:Veranstaltungen für SV Wildschütz Deggenau
BEGIN:VEVENT
DTSTART;TZID=Europe/Berlin:20170702T110000
DTEND;TZID=Europe/Berlin:20170702T130000
DTSTAMP:20260424T192014
CREATED:20170616T113624Z
LAST-MODIFIED:20170616T113624Z
UID:849-1498993200-1499000400@xn--sv-wildschtz-mlb.de
SUMMARY:Mostfest des Obst- und Gartenbauverein Deggenau
DESCRIPTION:
URL:https://xn--sv-wildschtz-mlb.de/event/mostfest-des-obst-und-gartenbauverein-deggenau/
LOCATION:Dorfplatz Deggenau
CATEGORIES:VeranstaltungenEXT
END:VEVENT
END:VCALENDAR