BEGIN:VCALENDAR
VERSION:2.0
PRODID:-//SV Wildschütz Deggenau - ECPv4.8.0.1//NONSGML v1.0//EN
CALSCALE:GREGORIAN
METHOD:PUBLISH
X-WR-CALNAME:SV Wildschütz Deggenau
X-ORIGINAL-URL:https://xn--sv-wildschtz-mlb.de
X-WR-CALDESC:Veranstaltungen für SV Wildschütz Deggenau
BEGIN:VEVENT
DTSTART;TZID=Europe/Berlin:20180701T110000
DTEND;TZID=Europe/Berlin:20180701T190000
DTSTAMP:20260424T004728
CREATED:20180505T150153Z
LAST-MODIFIED:20180505T150153Z
UID:1211-1530442800-1530471600@xn--sv-wildschtz-mlb.de
SUMMARY:Mostfest Obst- und Gartenbauverein
DESCRIPTION:
URL:https://xn--sv-wildschtz-mlb.de/event/mostfest-obst-und-gartenbauverein/
LOCATION:Dorfplatz Deggenau
CATEGORIES:VeranstaltungenEXT
END:VEVENT
END:VCALENDAR