BEGIN:VCALENDAR
VERSION:2.0
PRODID:-//SV Wildschütz Deggenau - ECPv4.8.0.1//NONSGML v1.0//EN
CALSCALE:GREGORIAN
METHOD:PUBLISH
X-WR-CALNAME:SV Wildschütz Deggenau
X-ORIGINAL-URL:https://xn--sv-wildschtz-mlb.de
X-WR-CALDESC:Veranstaltungen für SV Wildschütz Deggenau
BEGIN:VEVENT
DTSTART;TZID=Europe/Berlin:20171110T190000
DTEND;TZID=Europe/Berlin:20171110T210000
DTSTAMP:20260424T131634
CREATED:20170928T113358Z
LAST-MODIFIED:20171110T125937Z
UID:889-1510340400-1510347600@xn--sv-wildschtz-mlb.de
SUMMARY:Preisverteilung Dorfschießen
DESCRIPTION:
URL:https://xn--sv-wildschtz-mlb.de/event/preisverteilung-dorfschiessen/
LOCATION:Schützenheim\, Sportplatzweg 2\, Deggendorf\, Bayern\, 94469\, Deutschland
CATEGORIES:Versammlung
END:VEVENT
END:VCALENDAR