BEGIN:VCALENDAR
VERSION:2.0
PRODID:-//SV Wildschütz Deggenau - ECPv4.8.0.1//NONSGML v1.0//EN
CALSCALE:GREGORIAN
METHOD:PUBLISH
X-WR-CALNAME:SV Wildschütz Deggenau
X-ORIGINAL-URL:https://xn--sv-wildschtz-mlb.de
X-WR-CALDESC:Veranstaltungen für SV Wildschütz Deggenau
BEGIN:VEVENT
DTSTART;TZID=Europe/Berlin:20180629T150000
DTEND;TZID=Europe/Berlin:20180629T190000
DTSTAMP:20260424T015054
CREATED:20180505T150044Z
LAST-MODIFIED:20180505T150044Z
UID:1209-1530284400-1530298800@xn--sv-wildschtz-mlb.de
SUMMARY:Sommerfest Kindergarten
DESCRIPTION:
URL:https://xn--sv-wildschtz-mlb.de/event/sommerfest-kindergarten/
CATEGORIES:VeranstaltungenEXT
END:VEVENT
END:VCALENDAR