BEGIN:VCALENDAR
VERSION:2.0
PRODID:-//SV Wildschütz Deggenau - ECPv4.8.0.1//NONSGML v1.0//EN
CALSCALE:GREGORIAN
METHOD:PUBLISH
X-WR-CALNAME:SV Wildschütz Deggenau
X-ORIGINAL-URL:https://xn--sv-wildschtz-mlb.de
X-WR-CALDESC:Veranstaltungen für SV Wildschütz Deggenau
BEGIN:VEVENT
DTSTART;VALUE=DATE:20170811
DTEND;VALUE=DATE:20170812
DTSTAMP:20260424T173747
CREATED:20170616T113835Z
LAST-MODIFIED:20170616T113835Z
UID:852-1502409600-1502495999@xn--sv-wildschtz-mlb.de
SUMMARY:Sommernachtsfest SV Deggenau
DESCRIPTION:
URL:https://xn--sv-wildschtz-mlb.de/event/sommernachtsfest-sv-deggenau/
END:VEVENT
END:VCALENDAR