BEGIN:VCALENDAR
VERSION:2.0
PRODID:-//SV Wildschütz Deggenau - ECPv4.8.0.1//NONSGML v1.0//EN
CALSCALE:GREGORIAN
METHOD:PUBLISH
X-WR-CALNAME:SV Wildschütz Deggenau
X-ORIGINAL-URL:https://xn--sv-wildschtz-mlb.de
X-WR-CALDESC:Veranstaltungen für SV Wildschütz Deggenau
BEGIN:VEVENT
DTSTART;TZID=Europe/Berlin:20170321T190000
DTEND;TZID=Europe/Berlin:20170321T230000
DTSTAMP:20260425T202218
CREATED:20170313T130531Z
LAST-MODIFIED:20170313T203615Z
UID:559-1490122800-1490137200@xn--sv-wildschtz-mlb.de
SUMMARY:Training
DESCRIPTION:Standaufsicht: Werner \n
URL:https://xn--sv-wildschtz-mlb.de/event/training-2/
LOCATION:Schützenheim\, Sportplatzweg 2\, Deggendorf\, Bayern\, 94469\, Deutschland
CATEGORIES:Training
END:VEVENT
END:VCALENDAR