BEGIN:VCALENDAR
VERSION:2.0
PRODID:-//SV Wildschütz Deggenau - ECPv4.8.0.1//NONSGML v1.0//EN
CALSCALE:GREGORIAN
METHOD:PUBLISH
X-WR-CALNAME:SV Wildschütz Deggenau
X-ORIGINAL-URL:https://xn--sv-wildschtz-mlb.de
X-WR-CALDESC:Veranstaltungen für SV Wildschütz Deggenau
BEGIN:VEVENT
DTSTART;TZID=Europe/Berlin:20181016T193000
DTEND;TZID=Europe/Berlin:20181016T230000
DTSTAMP:20260423T213851
CREATED:20181110T203402Z
LAST-MODIFIED:20181110T203402Z
UID:1263-1539718200-1539730800@xn--sv-wildschtz-mlb.de
SUMMARY:Training
DESCRIPTION:
URL:https://xn--sv-wildschtz-mlb.de/event/training-37/
LOCATION:Schützenheim\, Sportplatzweg 2\, Deggendorf\, Bayern\, 94469\, Deutschland
CATEGORIES:Training
END:VEVENT
END:VCALENDAR