BEGIN:VCALENDAR
VERSION:2.0
PRODID:-//SV Wildschütz Deggenau - ECPv4.8.0.1//NONSGML v1.0//EN
CALSCALE:GREGORIAN
METHOD:PUBLISH
X-WR-CALNAME:SV Wildschütz Deggenau
X-ORIGINAL-URL:https://xn--sv-wildschtz-mlb.de
X-WR-CALDESC:Veranstaltungen für SV Wildschütz Deggenau
BEGIN:VEVENT
DTSTART;TZID=Europe/Berlin:20170303T190000
DTEND;TZID=Europe/Berlin:20170303T230000
DTSTAMP:20260426T042209
CREATED:20170313T130832Z
LAST-MODIFIED:20170313T203229Z
UID:569-1488567600-1488582000@xn--sv-wildschtz-mlb.de
SUMMARY:Vereinsabend
DESCRIPTION:Standaufsicht: Ebner S. \nAuswerten: Andi \nSchreiben: Renate \n
URL:https://xn--sv-wildschtz-mlb.de/event/vereinsabend-3/
LOCATION:Schützenheim\, Sportplatzweg 2\, Deggendorf\, Bayern\, 94469\, Deutschland
CATEGORIES:Vereinsabend
END:VEVENT
END:VCALENDAR