BEGIN:VCALENDAR
VERSION:2.0
PRODID:-//SV Wildschütz Deggenau - ECPv4.8.0.1//NONSGML v1.0//EN
CALSCALE:GREGORIAN
METHOD:PUBLISH
X-WR-CALNAME:SV Wildschütz Deggenau
X-ORIGINAL-URL:https://xn--sv-wildschtz-mlb.de
X-WR-CALDESC:Veranstaltungen für SV Wildschütz Deggenau
BEGIN:VEVENT
DTSTART;TZID=Europe/Berlin:20170407T190000
DTEND;TZID=Europe/Berlin:20170407T230000
DTSTAMP:20260425T120236
CREATED:20170331T125531Z
LAST-MODIFIED:20170331T125853Z
UID:748-1491591600-1491606000@xn--sv-wildschtz-mlb.de
SUMMARY:Vereinsabend
DESCRIPTION:
URL:https://xn--sv-wildschtz-mlb.de/event/vereinsabend-5/
LOCATION:Schützenheim\, Sportplatzweg 2\, Deggendorf\, Bayern\, 94469\, Deutschland
CATEGORIES:Vereinsabend
END:VEVENT
END:VCALENDAR