BEGIN:VCALENDAR
VERSION:2.0
PRODID:-//SV Wildschütz Deggenau - ECPv4.8.0.1//NONSGML v1.0//EN
CALSCALE:GREGORIAN
METHOD:PUBLISH
X-WR-CALNAME:SV Wildschütz Deggenau
X-ORIGINAL-URL:https://xn--sv-wildschtz-mlb.de
X-WR-CALDESC:Veranstaltungen für SV Wildschütz Deggenau
BEGIN:VEVENT
DTSTART;TZID=Europe/Berlin:20190913T193000
DTEND;TZID=Europe/Berlin:20190913T223000
DTSTAMP:20260423T044940
CREATED:20190603T181348Z
LAST-MODIFIED:20190603T181348Z
UID:1518-1568403000-1568413800@xn--sv-wildschtz-mlb.de
SUMMARY:Vereinsabend
DESCRIPTION:
URL:https://xn--sv-wildschtz-mlb.de/event/vereinsabend-54/
LOCATION:Schützenheim\, Sportplatzweg 2\, Deggendorf\, Bayern\, 94469\, Deutschland
CATEGORIES:Vereinsabend
END:VEVENT
END:VCALENDAR