BEGIN:VCALENDAR
VERSION:2.0
PRODID:-//SV Wildschütz Deggenau - ECPv4.8.0.1//NONSGML v1.0//EN
CALSCALE:GREGORIAN
METHOD:PUBLISH
X-WR-CALNAME:SV Wildschütz Deggenau
X-ORIGINAL-URL:https://xn--sv-wildschtz-mlb.de
X-WR-CALDESC:Veranstaltungen für SV Wildschütz Deggenau
BEGIN:VEVENT
DTSTART;TZID=Europe/Berlin:20170317T190000
DTEND;TZID=Europe/Berlin:20170317T230000
DTSTAMP:20260425T215020
CREATED:20170313T130439Z
LAST-MODIFIED:20170313T203550Z
UID:557-1489777200-1489791600@xn--sv-wildschtz-mlb.de
SUMMARY:Vereinsabend
DESCRIPTION:Standaufsicht: Küblböck \nAuswerten: Albert \nSchreiben: Maria \n
URL:https://xn--sv-wildschtz-mlb.de/event/vereinsabend/
LOCATION:Schützenheim\, Sportplatzweg 2\, Deggendorf\, Bayern\, 94469\, Deutschland
CATEGORIES:Vereinsabend
END:VEVENT
END:VCALENDAR