BEGIN:VCALENDAR
VERSION:2.0
PRODID:-//SV Wildschütz Deggenau - ECPv4.8.0.1//NONSGML v1.0//EN
CALSCALE:GREGORIAN
METHOD:PUBLISH
X-WR-CALNAME:SV Wildschütz Deggenau
X-ORIGINAL-URL:https://xn--sv-wildschtz-mlb.de
X-WR-CALDESC:Veranstaltungen für SV Wildschütz Deggenau
BEGIN:VEVENT
DTSTART;TZID=Europe/Berlin:20170912T190000
DTEND;TZID=Europe/Berlin:20170912T200000
DTSTAMP:20260424T161657
CREATED:20170331T130635Z
LAST-MODIFIED:20170907T114528Z
UID:773-1505242800-1505246400@xn--sv-wildschtz-mlb.de
SUMMARY:Gedenkgottesdienst
DESCRIPTION:
URL:https://xn--sv-wildschtz-mlb.de/event/gedenkgottesdienst/
CATEGORIES:Versammlung
END:VEVENT
END:VCALENDAR