BEGIN:VCALENDAR
VERSION:2.0
PRODID:-//SV Wildschütz Deggenau - ECPv4.8.0.1//NONSGML v1.0//EN
CALSCALE:GREGORIAN
METHOD:PUBLISH
X-WR-CALNAME:SV Wildschütz Deggenau
X-ORIGINAL-URL:https://xn--sv-wildschtz-mlb.de
X-WR-CALDESC:Veranstaltungen für SV Wildschütz Deggenau
BEGIN:VEVENT
DTSTART;TZID=Europe/Berlin:20171114T193000
DTEND;TZID=Europe/Berlin:20171114T230000
DTSTAMP:20260424T131549
CREATED:20170928T113430Z
LAST-MODIFIED:20170928T113430Z
UID:891-1510687800-1510700400@xn--sv-wildschtz-mlb.de
SUMMARY:Training
DESCRIPTION:
URL:https://xn--sv-wildschtz-mlb.de/event/training-17/
LOCATION:Schützenheim\, Sportplatzweg 2\, Deggendorf\, Bayern\, 94469\, Deutschland
CATEGORIES:Training
END:VEVENT
END:VCALENDAR