BEGIN:VCALENDAR
VERSION:2.0
PRODID:-//SV Wildschütz Deggenau - ECPv4.8.0.1//NONSGML v1.0//EN
CALSCALE:GREGORIAN
METHOD:PUBLISH
X-WR-CALNAME:SV Wildschütz Deggenau
X-ORIGINAL-URL:https://xn--sv-wildschtz-mlb.de
X-WR-CALDESC:Veranstaltungen für SV Wildschütz Deggenau
BEGIN:VEVENT
DTSTART;TZID=Europe/Berlin:20180112T193000
DTEND;TZID=Europe/Berlin:20180112T223000
DTSTAMP:20260424T101618
CREATED:20171229T084954Z
LAST-MODIFIED:20171229T084954Z
UID:1023-1515785400-1515796200@xn--sv-wildschtz-mlb.de
SUMMARY:Vereinsabend
DESCRIPTION:
URL:https://xn--sv-wildschtz-mlb.de/event/vereinsabend-18/
LOCATION:Schützenheim\, Sportplatzweg 2\, Deggendorf\, Bayern\, 94469\, Deutschland
CATEGORIES:Vereinsabend
END:VEVENT
END:VCALENDAR