BEGIN:VCALENDAR
VERSION:2.0
PRODID:-//SV Wildschütz Deggenau - ECPv4.8.0.1//NONSGML v1.0//EN
CALSCALE:GREGORIAN
METHOD:PUBLISH
X-WR-CALNAME:SV Wildschütz Deggenau
X-ORIGINAL-URL:https://xn--sv-wildschtz-mlb.de
X-WR-CALDESC:Veranstaltungen für SV Wildschütz Deggenau
BEGIN:VEVENT
DTSTART;TZID=Europe/Berlin:20180113T130000
DTEND;TZID=Europe/Berlin:20180113T203000
DTSTAMP:20260424T101549
CREATED:20180112T143504Z
LAST-MODIFIED:20180112T143504Z
UID:1070-1515848400-1515875400@xn--sv-wildschtz-mlb.de
SUMMARY:Gaumeisterschaft Auflage - Schützengau Deggendorf
DESCRIPTION:
URL:https://xn--sv-wildschtz-mlb.de/event/gaumeisterschaft-auflage-schuetzengau-deggendorf/
LOCATION:Schützenheim\, Sportplatzweg 2\, Deggendorf\, Bayern\, 94469\, Deutschland
CATEGORIES:VeranstaltungenEXT
END:VEVENT
END:VCALENDAR