BEGIN:VCALENDAR
VERSION:2.0
PRODID:-//SV Wildschütz Deggenau - ECPv4.8.0.1//NONSGML v1.0//EN
CALSCALE:GREGORIAN
METHOD:PUBLISH
X-WR-CALNAME:SV Wildschütz Deggenau
X-ORIGINAL-URL:https://xn--sv-wildschtz-mlb.de
X-WR-CALDESC:Veranstaltungen für SV Wildschütz Deggenau
BEGIN:VEVENT
DTSTART;TZID=Europe/Berlin:20180323T193000
DTEND;TZID=Europe/Berlin:20180323T220000
DTSTAMP:20260424T071246
CREATED:20171229T090252Z
LAST-MODIFIED:20171229T090252Z
UID:1062-1521833400-1521842400@xn--sv-wildschtz-mlb.de
SUMMARY:JAHRESHAUPTVERSAMMLUNG
DESCRIPTION:
URL:https://xn--sv-wildschtz-mlb.de/event/jahreshauptversammlung-2/
LOCATION:Schützenheim\, Sportplatzweg 2\, Deggendorf\, Bayern\, 94469\, Deutschland
CATEGORIES:Versammlung
END:VEVENT
END:VCALENDAR