BEGIN:VCALENDAR
VERSION:2.0
PRODID:-//SV Wildschütz Deggenau - ECPv4.8.0.1//NONSGML v1.0//EN
CALSCALE:GREGORIAN
METHOD:PUBLISH
X-WR-CALNAME:SV Wildschütz Deggenau
X-ORIGINAL-URL:https://xn--sv-wildschtz-mlb.de
X-WR-CALDESC:Veranstaltungen für SV Wildschütz Deggenau
BEGIN:VEVENT
DTSTART;TZID=Europe/Berlin:20180327T193000
DTEND;TZID=Europe/Berlin:20180327T223000
DTSTAMP:20260424T055618
CREATED:20171229T090342Z
LAST-MODIFIED:20171229T090342Z
UID:1064-1522179000-1522189800@xn--sv-wildschtz-mlb.de
SUMMARY:Training
DESCRIPTION:
URL:https://xn--sv-wildschtz-mlb.de/event/training-30/
LOCATION:Schützenheim\, Sportplatzweg 2\, Deggendorf\, Bayern\, 94469\, Deutschland
CATEGORIES:Training
END:VEVENT
END:VCALENDAR