BEGIN:VCALENDAR
VERSION:2.0
PRODID:-//SV Wildschütz Deggenau - ECPv4.8.0.1//NONSGML v1.0//EN
CALSCALE:GREGORIAN
METHOD:PUBLISH
X-WR-CALNAME:SV Wildschütz Deggenau
X-ORIGINAL-URL:https://xn--sv-wildschtz-mlb.de
X-WR-CALDESC:Veranstaltungen für SV Wildschütz Deggenau
BEGIN:VEVENT
DTSTART;TZID=Europe/Berlin:20180427T190000
DTEND;TZID=Europe/Berlin:20180427T223000
DTSTAMP:20260424T055626
CREATED:20180415T142006Z
LAST-MODIFIED:20180415T142006Z
UID:1113-1524855600-1524868200@xn--sv-wildschtz-mlb.de
SUMMARY:End- und Königsschießen
DESCRIPTION:
URL:https://xn--sv-wildschtz-mlb.de/event/end-und-koenigsschiessen-3/
LOCATION:Schützenheim\, Sportplatzweg 2\, Deggendorf\, Bayern\, 94469\, Deutschland
END:VEVENT
END:VCALENDAR