BEGIN:VCALENDAR
VERSION:2.0
PRODID:-//SV Wildschütz Deggenau - ECPv4.8.0.1//NONSGML v1.0//EN
CALSCALE:GREGORIAN
METHOD:PUBLISH
X-WR-CALNAME:SV Wildschütz Deggenau
X-ORIGINAL-URL:https://xn--sv-wildschtz-mlb.de
X-WR-CALDESC:Veranstaltungen für SV Wildschütz Deggenau
BEGIN:VEVENT
DTSTART;VALUE=DATE:20180616
DTEND;VALUE=DATE:20180617
DTSTAMP:20260424T031522
CREATED:20180505T145915Z
LAST-MODIFIED:20180505T145915Z
UID:1205-1529107200-1529193599@xn--sv-wildschtz-mlb.de
SUMMARY:Sommerfest Freiwillige Feuerwehr Deggenau
DESCRIPTION:
URL:https://xn--sv-wildschtz-mlb.de/event/sommerfest-freiwillige-feuerwehr-deggenau/
LOCATION:Feuerwehrhaus\, Thanhofstraße 2\, Deggendorf\, 94469
CATEGORIES:VeranstaltungenEXT
END:VEVENT
END:VCALENDAR