BEGIN:VCALENDAR
VERSION:2.0
PRODID:-//SV Wildschütz Deggenau - ECPv4.8.0.1//NONSGML v1.0//EN
CALSCALE:GREGORIAN
METHOD:PUBLISH
X-WR-CALNAME:SV Wildschütz Deggenau
X-ORIGINAL-URL:https://xn--sv-wildschtz-mlb.de
X-WR-CALDESC:Veranstaltungen für SV Wildschütz Deggenau
BEGIN:VEVENT
DTSTART;TZID=Europe/Berlin:20180911T193000
DTEND;TZID=Europe/Berlin:20180911T223000
DTSTAMP:20260423T231519
CREATED:20180415T143042Z
LAST-MODIFIED:20180415T143042Z
UID:1121-1536694200-1536705000@xn--sv-wildschtz-mlb.de
SUMMARY:Training
DESCRIPTION:
URL:https://xn--sv-wildschtz-mlb.de/event/training-32/
LOCATION:Schützenheim\, Sportplatzweg 2\, Deggendorf\, Bayern\, 94469\, Deutschland
CATEGORIES:Training
END:VEVENT
END:VCALENDAR