BEGIN:VCALENDAR
VERSION:2.0
PRODID:-//SV Wildschütz Deggenau - ECPv4.8.0.1//NONSGML v1.0//EN
CALSCALE:GREGORIAN
METHOD:PUBLISH
X-WR-CALNAME:SV Wildschütz Deggenau
X-ORIGINAL-URL:https://xn--sv-wildschtz-mlb.de
X-WR-CALDESC:Veranstaltungen für SV Wildschütz Deggenau
BEGIN:VEVENT
DTSTART;TZID=Europe/Berlin:20180925T190000
DTEND;TZID=Europe/Berlin:20180925T223000
DTSTAMP:20260423T231346
CREATED:20180415T143342Z
LAST-MODIFIED:20180908T094719Z
UID:1129-1537902000-1537914600@xn--sv-wildschtz-mlb.de
SUMMARY:Gottesdienst - Training im Anschluss
DESCRIPTION:
URL:https://xn--sv-wildschtz-mlb.de/event/training-33/
LOCATION:Schützenheim\, Sportplatzweg 2\, Deggendorf\, Bayern\, 94469\, Deutschland
CATEGORIES:Training
END:VEVENT
END:VCALENDAR