BEGIN:VCALENDAR
VERSION:2.0
PRODID:-//SV Wildschütz Deggenau - ECPv4.8.0.1//NONSGML v1.0//EN
CALSCALE:GREGORIAN
METHOD:PUBLISH
X-WR-CALNAME:SV Wildschütz Deggenau
X-ORIGINAL-URL:https://xn--sv-wildschtz-mlb.de
X-WR-CALDESC:Veranstaltungen für SV Wildschütz Deggenau
BEGIN:VEVENT
DTSTART;TZID=Europe/Berlin:20181012T193000
DTEND;TZID=Europe/Berlin:20181012T230000
DTSTAMP:20260423T215640
CREATED:20181110T203323Z
LAST-MODIFIED:20181110T203323Z
UID:1261-1539372600-1539385200@xn--sv-wildschtz-mlb.de
SUMMARY:Vereinsabend
DESCRIPTION:
URL:https://xn--sv-wildschtz-mlb.de/event/vereinsabend-35/
LOCATION:Schützenheim\, Sportplatzweg 2\, Deggendorf\, Bayern\, 94469\, Deutschland
CATEGORIES:Vereinsabend
END:VEVENT
END:VCALENDAR