BEGIN:VCALENDAR
VERSION:2.0
PRODID:-//SV Wildschütz Deggenau - ECPv4.8.0.1//NONSGML v1.0//EN
CALSCALE:GREGORIAN
METHOD:PUBLISH
X-WR-CALNAME:SV Wildschütz Deggenau
X-ORIGINAL-URL:https://xn--sv-wildschtz-mlb.de
X-WR-CALDESC:Veranstaltungen für SV Wildschütz Deggenau
BEGIN:VEVENT
DTSTART;TZID=Europe/Berlin:20181102T190000
DTEND;TZID=Europe/Berlin:20181102T230000
DTSTAMP:20260423T202223
CREATED:20181110T203758Z
LAST-MODIFIED:20181110T203758Z
UID:1273-1541185200-1541199600@xn--sv-wildschtz-mlb.de
SUMMARY:Dorfschiessen
DESCRIPTION:
URL:https://xn--sv-wildschtz-mlb.de/event/dorfschiessen-3/
LOCATION:Schützenheim\, Sportplatzweg 2\, Deggendorf\, Bayern\, 94469\, Deutschland
CATEGORIES:Veranstaltungen
END:VEVENT
END:VCALENDAR