BEGIN:VCALENDAR
VERSION:2.0
PRODID:-//SV Wildschütz Deggenau - ECPv4.8.0.1//NONSGML v1.0//EN
CALSCALE:GREGORIAN
METHOD:PUBLISH
X-WR-CALNAME:SV Wildschütz Deggenau
X-ORIGINAL-URL:https://xn--sv-wildschtz-mlb.de
X-WR-CALDESC:Veranstaltungen für SV Wildschütz Deggenau
BEGIN:VEVENT
DTSTART;TZID=Europe/Berlin:20181109T190000
DTEND;TZID=Europe/Berlin:20181109T203000
DTSTAMP:20260423T202222
CREATED:20181110T204031Z
LAST-MODIFIED:20181110T204031Z
UID:1279-1541790000-1541795400@xn--sv-wildschtz-mlb.de
SUMMARY:Preisverteilung Dorfschiessen
DESCRIPTION:
URL:https://xn--sv-wildschtz-mlb.de/event/preisverteilung-dorfschiessen-2/
LOCATION:Schützenheim\, Sportplatzweg 2\, Deggendorf\, Bayern\, 94469\, Deutschland
CATEGORIES:Veranstaltungen
END:VEVENT
END:VCALENDAR