BEGIN:VCALENDAR
VERSION:2.0
PRODID:-//SV Wildschütz Deggenau - ECPv4.8.0.1//NONSGML v1.0//EN
CALSCALE:GREGORIAN
METHOD:PUBLISH
X-WR-CALNAME:SV Wildschütz Deggenau
X-ORIGINAL-URL:https://xn--sv-wildschtz-mlb.de
X-WR-CALDESC:Veranstaltungen für SV Wildschütz Deggenau
BEGIN:VEVENT
DTSTART;VALUE=DATE:20181226
DTEND;VALUE=DATE:20181227
DTSTAMP:20260423T184857
CREATED:20181110T205256Z
LAST-MODIFIED:20181110T205256Z
UID:1300-1545782400-1545868799@xn--sv-wildschtz-mlb.de
SUMMARY:Christbaumversteigerung Freiwillige Feuerwehr Deggenau
DESCRIPTION:
URL:https://xn--sv-wildschtz-mlb.de/event/christbaumversteigerung-freiwillige-feuerwehr-deggenau/
CATEGORIES:VeranstaltungenEXT
END:VEVENT
END:VCALENDAR