BEGIN:VCALENDAR
VERSION:2.0
PRODID:-//SV Wildschütz Deggenau - ECPv4.8.0.1//NONSGML v1.0//EN
CALSCALE:GREGORIAN
METHOD:PUBLISH
X-WR-CALNAME:SV Wildschütz Deggenau
X-ORIGINAL-URL:https://xn--sv-wildschtz-mlb.de
X-WR-CALDESC:Veranstaltungen für SV Wildschütz Deggenau
BEGIN:VEVENT
DTSTART;TZID=Europe/Berlin:20190214T193000
DTEND;TZID=Europe/Berlin:20190214T220000
DTSTAMP:20260423T160404
CREATED:20190124T191021Z
LAST-MODIFIED:20190124T191021Z
UID:1385-1550172600-1550181600@xn--sv-wildschtz-mlb.de
SUMMARY:Blasrohrschießen
DESCRIPTION:
URL:https://xn--sv-wildschtz-mlb.de/event/blasrohrschiessen-2/
LOCATION:Schützenheim\, Sportplatzweg 2\, Deggendorf\, Bayern\, 94469\, Deutschland
CATEGORIES:Blasrohr
END:VEVENT
END:VCALENDAR