BEGIN:VCALENDAR
VERSION:2.0
PRODID:-//SV Wildschütz Deggenau - ECPv4.8.0.1//NONSGML v1.0//EN
CALSCALE:GREGORIAN
METHOD:PUBLISH
X-WR-CALNAME:SV Wildschütz Deggenau
X-ORIGINAL-URL:https://xn--sv-wildschtz-mlb.de
X-WR-CALDESC:Veranstaltungen für SV Wildschütz Deggenau
BEGIN:VEVENT
DTSTART;TZID=Europe/Berlin:20190503T193000
DTEND;TZID=Europe/Berlin:20190503T230000
DTSTAMP:20260423T125248
CREATED:20190407T104952Z
LAST-MODIFIED:20190407T105034Z
UID:1469-1556911800-1556924400@xn--sv-wildschtz-mlb.de
SUMMARY:1. Nachschießen
DESCRIPTION:
URL:https://xn--sv-wildschtz-mlb.de/event/1-nachschiessen-3/
LOCATION:Schützenheim\, Sportplatzweg 2\, Deggendorf\, Bayern\, 94469\, Deutschland
CATEGORIES:Vereinsabend
END:VEVENT
END:VCALENDAR