BEGIN:VCALENDAR
VERSION:2.0
PRODID:-//SV Wildschütz Deggenau - ECPv4.8.0.1//NONSGML v1.0//EN
CALSCALE:GREGORIAN
METHOD:PUBLISH
X-WR-CALNAME:SV Wildschütz Deggenau
X-ORIGINAL-URL:https://xn--sv-wildschtz-mlb.de
X-WR-CALDESC:Veranstaltungen für SV Wildschütz Deggenau
BEGIN:VEVENT
DTSTART;TZID=Europe/Berlin:20190510T190000
DTEND;TZID=Europe/Berlin:20190510T230000
DTSTAMP:20260423T113108
CREATED:20190407T105117Z
LAST-MODIFIED:20190509T095303Z
UID:1475-1557514800-1557529200@xn--sv-wildschtz-mlb.de
SUMMARY:End- und Königsschießen
DESCRIPTION:
URL:https://xn--sv-wildschtz-mlb.de/event/end-und-koenigsschiessen-5/
LOCATION:Schützenheim\, Sportplatzweg 2\, Deggendorf\, Bayern\, 94469\, Deutschland
CATEGORIES:Vereinsabend
END:VEVENT
END:VCALENDAR