BEGIN:VCALENDAR
VERSION:2.0
PRODID:-//SV Wildschütz Deggenau - ECPv4.8.0.1//NONSGML v1.0//EN
CALSCALE:GREGORIAN
METHOD:PUBLISH
X-WR-CALNAME:SV Wildschütz Deggenau
X-ORIGINAL-URL:https://xn--sv-wildschtz-mlb.de
X-WR-CALDESC:Veranstaltungen für SV Wildschütz Deggenau
BEGIN:VEVENT
DTSTART;TZID=Europe/Berlin:20190517T193000
DTEND;TZID=Europe/Berlin:20190517T220000
DTSTAMP:20260423T112720
CREATED:20190407T105219Z
LAST-MODIFIED:20190407T105219Z
UID:1482-1558121400-1558130400@xn--sv-wildschtz-mlb.de
SUMMARY:Preisverteilung End- und Königsschießen
DESCRIPTION:
URL:https://xn--sv-wildschtz-mlb.de/event/preisverteilung-end-und-koenigsschiessen-3/
LOCATION:Schützenheim\, Sportplatzweg 2\, Deggendorf\, Bayern\, 94469\, Deutschland
CATEGORIES:Versammlung
END:VEVENT
END:VCALENDAR