BEGIN:VCALENDAR
VERSION:2.0
PRODID:-//SV Wildschütz Deggenau - ECPv4.8.0.1//NONSGML v1.0//EN
CALSCALE:GREGORIAN
METHOD:PUBLISH
X-WR-CALNAME:SV Wildschütz Deggenau
X-ORIGINAL-URL:https://xn--sv-wildschtz-mlb.de
X-WR-CALDESC:Veranstaltungen für SV Wildschütz Deggenau
BEGIN:VEVENT
DTSTART;TZID=Europe/Berlin:20191004T190000
DTEND;TZID=Europe/Berlin:20191004T223000
DTSTAMP:20260423T031027
CREATED:20191022T180051Z
LAST-MODIFIED:20191022T180051Z
UID:1545-1570215600-1570228200@xn--sv-wildschtz-mlb.de
SUMMARY:Vereinsabend
DESCRIPTION:
URL:https://xn--sv-wildschtz-mlb.de/event/vereinsabend-55/
LOCATION:Schützenheim\, Sportplatzweg 2\, Deggendorf\, Bayern\, 94469\, Deutschland
CATEGORIES:Vereinsabend
END:VEVENT
END:VCALENDAR